BEGIN:VCALENDAR
VERSION:2.0
PRODID:-//DullesMoms.com - ECPv6.15.20//NONSGML v1.0//EN
CALSCALE:GREGORIAN
METHOD:PUBLISH
X-WR-CALNAME:DullesMoms.com
X-ORIGINAL-URL:https://dullesmoms.com
X-WR-CALDESC:Events for DullesMoms.com
REFRESH-INTERVAL;VALUE=DURATION:PT1H
X-Robots-Tag:noindex
X-PUBLISHED-TTL:PT1H
BEGIN:VTIMEZONE
TZID:America/New_York
BEGIN:DAYLIGHT
TZOFFSETFROM:-0500
TZOFFSETTO:-0400
TZNAME:EDT
DTSTART:20250309T070000
END:DAYLIGHT
BEGIN:STANDARD
TZOFFSETFROM:-0400
TZOFFSETTO:-0500
TZNAME:EST
DTSTART:20251102T060000
END:STANDARD
BEGIN:DAYLIGHT
TZOFFSETFROM:-0500
TZOFFSETTO:-0400
TZNAME:EDT
DTSTART:20260308T070000
END:DAYLIGHT
BEGIN:STANDARD
TZOFFSETFROM:-0400
TZOFFSETTO:-0500
TZNAME:EST
DTSTART:20261101T060000
END:STANDARD
BEGIN:DAYLIGHT
TZOFFSETFROM:-0500
TZOFFSETTO:-0400
TZNAME:EDT
DTSTART:20270314T070000
END:DAYLIGHT
BEGIN:STANDARD
TZOFFSETFROM:-0400
TZOFFSETTO:-0500
TZNAME:EST
DTSTART:20271107T060000
END:STANDARD
END:VTIMEZONE
BEGIN:VEVENT
DTSTART;TZID=America/New_York:20260503T100000
DTEND;TZID=America/New_York:20260503T100000
DTSTAMP:20260421T145025
CREATED:20260318T040031Z
LAST-MODIFIED:20260319T005822Z
UID:10163102-1777802400-1777802400@dullesmoms.com
SUMMARY:Doll Hair & Manicure Day @ American Girl Store
DESCRIPTION:Join friends at the American Girl Store for a special hairstyling and manicure session in the Dolled Up salon! \nIn this class\, girls will learn how to style their doll’s hair\, paint her nails\, and keep both looking great. \nUpcoming opportunities: \nApr 19\, 2026\nSpring Doll Hair & Manicure Day \nMay 3\, 2026\nDoll Hair & Manicure Day \nMay 17\, 2026\n’80s Doll Hair & Manicure Day \nEach girl will go home with a salon-inspired goody bag and doll nail polish. \nThis opportunity requires advanced registration (details below).
URL:https://dullesmoms.com/event/ags-doll-hair-manicure-day-spring/2026-05-03/
LOCATION:American Girl Store\, 8090 Tysons Corner Ctr.\, McLean\, VA\, 22102\, United States
CATEGORIES:2) Elem School-Age,3) Middle School-Age,Fairfax County,Indoor Fun
ATTACH;FMTTYPE=image/png:https://dullesmoms.com/wp-content/uploads/2017/04/Logo-DullesMoms.png
END:VEVENT
BEGIN:VEVENT
DTSTART;TZID=America/New_York:20260516T110000
DTEND;TZID=America/New_York:20260516T134500
DTSTAMP:20260421T145026
CREATED:20260318T040039Z
LAST-MODIFIED:20260319T005437Z
UID:10163100-1778929200-1778939100@dullesmoms.com
SUMMARY:Pet Adoption Day @ American Girl Store
DESCRIPTION:Calling all pet lovers! Are you looking to add a furry friend to your American Girl family? Join the American Girl Store’s Pet Adoption Day to adopt a new pet for your doll. \nUpcoming opportunities: \n• Apr 11\, 2026\n• May 16\, 2026 \nFirst\, girls will choose which pet from the Truly Me collection of select cats and dogs they would like to take home. An American Girl adoption counselor will complete an adoption certificate to commemorate this special day. \nAfterward\, head to the pampering station where your pet will receive a complimentary grooming service. Then\, stop at the photo spot to take a picture with your newly adopted pet! \nGirls will also go home with a goody bag that includes a pet food bowl and a Pets: Getting Them\, Caring For Them\, Loving Them book. \nRegister in advance for your preferred time slot (link below).
URL:https://dullesmoms.com/event/ags-pet-adoption-day-4-11/2026-05-16/
LOCATION:American Girl Store\, 8090 Tysons Corner Ctr.\, McLean\, VA\, 22102\, United States
CATEGORIES:2) Elem School-Age,3) Middle School-Age,Fairfax County,Indoor Fun
ATTACH;FMTTYPE=image/png:https://dullesmoms.com/wp-content/uploads/2017/04/Logo-DullesMoms.png
END:VEVENT
BEGIN:VEVENT
DTSTART;TZID=America/New_York:20260517T080000
DTEND;TZID=America/New_York:20260517T170000
DTSTAMP:20260421T145026
CREATED:20260318T040031Z
LAST-MODIFIED:20260319T005822Z
UID:10163103-1779004800-1779037200@dullesmoms.com
SUMMARY:Doll Hair & Manicure Day @ American Girl Store
DESCRIPTION:Join friends at the American Girl Store for a special hairstyling and manicure session in the Dolled Up salon! \nIn this class\, girls will learn how to style their doll’s hair\, paint her nails\, and keep both looking great. \nUpcoming opportunities: \nApr 19\, 2026\nSpring Doll Hair & Manicure Day \nMay 3\, 2026\nDoll Hair & Manicure Day \nMay 17\, 2026\n’80s Doll Hair & Manicure Day \nEach girl will go home with a salon-inspired goody bag and doll nail polish. \nThis opportunity requires advanced registration (details below).
URL:https://dullesmoms.com/event/ags-doll-hair-manicure-day-spring/2026-05-17/
LOCATION:American Girl Store\, 8090 Tysons Corner Ctr.\, McLean\, VA\, 22102\, United States
CATEGORIES:2) Elem School-Age,3) Middle School-Age,Fairfax County,Indoor Fun
ATTACH;FMTTYPE=image/png:https://dullesmoms.com/wp-content/uploads/2017/04/Logo-DullesMoms.png
END:VEVENT
BEGIN:VEVENT
DTSTART;TZID=America/New_York:20260524T093000
DTEND;TZID=America/New_York:20260524T093000
DTSTAMP:20260421T145026
CREATED:20260319T010941Z
LAST-MODIFIED:20260319T010941Z
UID:10163104-1779615000-1779615000@dullesmoms.com
SUMMARY:Sweet Birthday Celebration @ American Girl Store
DESCRIPTION:Join American Girl for a sweet celebration filled with fun\, laughter\, and treats! \nOn May 24\, 2026\, enjoy a birthday-themed game and trivia to get everyone laughing\, followed by creative cupcake decorating with plenty of frosting and sprinkles\, and more American-Girl-inspired birthday fun. \nPre-registration required (link below).
URL:https://dullesmoms.com/event/ags-sweet-birthday-celebration-5-24/
LOCATION:American Girl Store\, 8090 Tysons Corner Ctr.\, McLean\, VA\, 22102\, United States
CATEGORIES:2) Elem School-Age,3) Middle School-Age,Fairfax County,Indoor Fun
ATTACH;FMTTYPE=image/png:https://dullesmoms.com/wp-content/uploads/2017/04/Logo-DullesMoms.png
END:VEVENT
END:VCALENDAR