BEGIN:VCALENDAR
VERSION:2.0
PRODID:-//DullesMoms.com - ECPv6.15.20//NONSGML v1.0//EN
CALSCALE:GREGORIAN
METHOD:PUBLISH
X-WR-CALNAME:DullesMoms.com
X-ORIGINAL-URL:https://dullesmoms.com
X-WR-CALDESC:Events for DullesMoms.com
REFRESH-INTERVAL;VALUE=DURATION:PT1H
X-Robots-Tag:noindex
X-PUBLISHED-TTL:PT1H
BEGIN:VTIMEZONE
TZID:America/New_York
BEGIN:DAYLIGHT
TZOFFSETFROM:-0500
TZOFFSETTO:-0400
TZNAME:EDT
DTSTART:20250309T070000
END:DAYLIGHT
BEGIN:STANDARD
TZOFFSETFROM:-0400
TZOFFSETTO:-0500
TZNAME:EST
DTSTART:20251102T060000
END:STANDARD
BEGIN:DAYLIGHT
TZOFFSETFROM:-0500
TZOFFSETTO:-0400
TZNAME:EDT
DTSTART:20260308T070000
END:DAYLIGHT
BEGIN:STANDARD
TZOFFSETFROM:-0400
TZOFFSETTO:-0500
TZNAME:EST
DTSTART:20261101T060000
END:STANDARD
BEGIN:DAYLIGHT
TZOFFSETFROM:-0500
TZOFFSETTO:-0400
TZNAME:EDT
DTSTART:20270314T070000
END:DAYLIGHT
BEGIN:STANDARD
TZOFFSETFROM:-0400
TZOFFSETTO:-0500
TZNAME:EST
DTSTART:20271107T060000
END:STANDARD
END:VTIMEZONE
BEGIN:VEVENT
DTSTART;TZID=America/New_York:20260424T121500
DTEND;TZID=America/New_York:20260424T121500
DTSTAMP:20260420T155930
CREATED:20260407T005116Z
LAST-MODIFIED:20260407T005259Z
UID:10163585-1777032900-1777032900@dullesmoms.com
SUMMARY:From Tummy to Toes Parent/Baby Movement Group @ Good Beginnings Pediatric Therapy
DESCRIPTION:From Tummy to Toes is a cozy\, parent-child movement series led by a pediatric physical therapist\, created to support your baby from those early tummy time moments through standing and first steps. \nEach class explores a stage of development—Tummy Time\, Sit & Roll\, On the Knees\, and Stand & Walk—using playful\, simple ideas you can weave into everyday routines. \nApr 17\, 2026\nOn the Knees \nApr 24\, 2026\nSit & Roll \nMay 1\, 2026\nStand & Walk \nYou’ll leave feeling supported\, encouraged\, and more confident as you help your baby move\, explore\, and grow at their own pace. \nThese classes are for babies from birth through 12 months and the parents\, nannies\, au pairs\, and any other family or caregivers who want gentle guidance\, reassurance\, and connection. \nPre-registration required for each class; link below.
URL:https://dullesmoms.com/event/gbpt-from-tummy-to-toes-parent-baby-movement-group/2026-04-24/
LOCATION:Good Beginnings Pediatric Therapy\, 6231 VA-7 #500\, Falls Church\, VA\, 22044\, United States
CATEGORIES:1) Ages 5 & Under,5) Just for Parents,Indoor Fun
ATTACH;FMTTYPE=image/png:https://dullesmoms.com/wp-content/uploads/2017/04/Logo-DullesMoms.png
END:VEVENT
BEGIN:VEVENT
DTSTART;TZID=America/New_York:20260501T121500
DTEND;TZID=America/New_York:20260501T121500
DTSTAMP:20260420T155930
CREATED:20260407T005116Z
LAST-MODIFIED:20260407T005259Z
UID:10163586-1777637700-1777637700@dullesmoms.com
SUMMARY:From Tummy to Toes Parent/Baby Movement Group @ Good Beginnings Pediatric Therapy
DESCRIPTION:From Tummy to Toes is a cozy\, parent-child movement series led by a pediatric physical therapist\, created to support your baby from those early tummy time moments through standing and first steps. \nEach class explores a stage of development—Tummy Time\, Sit & Roll\, On the Knees\, and Stand & Walk—using playful\, simple ideas you can weave into everyday routines. \nApr 17\, 2026\nOn the Knees \nApr 24\, 2026\nSit & Roll \nMay 1\, 2026\nStand & Walk \nYou’ll leave feeling supported\, encouraged\, and more confident as you help your baby move\, explore\, and grow at their own pace. \nThese classes are for babies from birth through 12 months and the parents\, nannies\, au pairs\, and any other family or caregivers who want gentle guidance\, reassurance\, and connection. \nPre-registration required for each class; link below.
URL:https://dullesmoms.com/event/gbpt-from-tummy-to-toes-parent-baby-movement-group/2026-05-01/
LOCATION:Good Beginnings Pediatric Therapy\, 6231 VA-7 #500\, Falls Church\, VA\, 22044\, United States
CATEGORIES:1) Ages 5 & Under,5) Just for Parents,Indoor Fun
ATTACH;FMTTYPE=image/png:https://dullesmoms.com/wp-content/uploads/2017/04/Logo-DullesMoms.png
END:VEVENT
END:VCALENDAR