BEGIN:VCALENDAR
VERSION:2.0
PRODID:-//DullesMoms.com - ECPv6.15.20//NONSGML v1.0//EN
CALSCALE:GREGORIAN
METHOD:PUBLISH
X-ORIGINAL-URL:https://dullesmoms.com
X-WR-CALDESC:Events for DullesMoms.com
REFRESH-INTERVAL;VALUE=DURATION:PT1H
X-Robots-Tag:noindex
X-PUBLISHED-TTL:PT1H
BEGIN:VTIMEZONE
TZID:America/New_York
BEGIN:DAYLIGHT
TZOFFSETFROM:-0500
TZOFFSETTO:-0400
TZNAME:EDT
DTSTART:20250309T070000
END:DAYLIGHT
BEGIN:STANDARD
TZOFFSETFROM:-0400
TZOFFSETTO:-0500
TZNAME:EST
DTSTART:20251102T060000
END:STANDARD
BEGIN:DAYLIGHT
TZOFFSETFROM:-0500
TZOFFSETTO:-0400
TZNAME:EDT
DTSTART:20260308T070000
END:DAYLIGHT
BEGIN:STANDARD
TZOFFSETFROM:-0400
TZOFFSETTO:-0500
TZNAME:EST
DTSTART:20261101T060000
END:STANDARD
BEGIN:DAYLIGHT
TZOFFSETFROM:-0500
TZOFFSETTO:-0400
TZNAME:EDT
DTSTART:20270314T070000
END:DAYLIGHT
BEGIN:STANDARD
TZOFFSETFROM:-0400
TZOFFSETTO:-0500
TZNAME:EST
DTSTART:20271107T060000
END:STANDARD
END:VTIMEZONE
BEGIN:VEVENT
DTSTART;TZID=America/New_York:20260314T100000
DTEND;TZID=America/New_York:20260314T160000
DTSTAMP:20260420T165218
CREATED:20260227T200319Z
LAST-MODIFIED:20260227T200529Z
UID:10160866-1773482400-1773504000@dullesmoms.com
SUMMARY:Used Book Sale @ Hunters Woods Elementary School
DESCRIPTION:The Hunters Woods Elementary PTA is hosting its first Used Book Sale on March 14\, 2026. This event brings together students\, families\, and community members to celebrate the joy of reading while raising important funds for school programs.
URL:https://dullesmoms.com/event/hwe-used-book-sale-3-14/
LOCATION:Hunters Woods Elementary School\, 2401 Colts Neck Rd.\, Reston\, VA\, 20191\, United States
CATEGORIES:1) Ages 5 & Under,2) Elem School-Age,3) Middle School-Age,4) High School-Age,5) Just for Parents,Fairfax County,Indoor Fun
ATTACH;FMTTYPE=image/png:https://dullesmoms.com/wp-content/uploads/2017/04/Logo-DullesMoms.png
END:VEVENT
END:VCALENDAR